BEGIN:VCALENDAR
VERSION:2.0
PRODID:-//The Representative - ECPv6.15.18//NONSGML v1.0//EN
CALSCALE:GREGORIAN
METHOD:PUBLISH
X-WR-CALNAME:The Representative
X-ORIGINAL-URL:https://therepresentativeclub.org
X-WR-CALDESC:Events for The Representative
REFRESH-INTERVAL;VALUE=DURATION:PT1H
X-Robots-Tag:noindex
X-PUBLISHED-TTL:PT1H
BEGIN:VTIMEZONE
TZID:America/Chicago
BEGIN:DAYLIGHT
TZOFFSETFROM:-0600
TZOFFSETTO:-0500
TZNAME:CDT
DTSTART:20240310T080000
END:DAYLIGHT
BEGIN:STANDARD
TZOFFSETFROM:-0500
TZOFFSETTO:-0600
TZNAME:CST
DTSTART:20241103T070000
END:STANDARD
BEGIN:DAYLIGHT
TZOFFSETFROM:-0600
TZOFFSETTO:-0500
TZNAME:CDT
DTSTART:20250309T080000
END:DAYLIGHT
BEGIN:STANDARD
TZOFFSETFROM:-0500
TZOFFSETTO:-0600
TZNAME:CST
DTSTART:20251102T070000
END:STANDARD
BEGIN:DAYLIGHT
TZOFFSETFROM:-0600
TZOFFSETTO:-0500
TZNAME:CDT
DTSTART:20260308T080000
END:DAYLIGHT
BEGIN:STANDARD
TZOFFSETFROM:-0500
TZOFFSETTO:-0600
TZNAME:CST
DTSTART:20261101T070000
END:STANDARD
END:VTIMEZONE
BEGIN:VEVENT
DTSTART;TZID=America/Chicago:20250912T180000
DTEND;TZID=America/Chicago:20250912T210000
DTSTAMP:20260423T065635
CREATED:20250731T205911Z
LAST-MODIFIED:20250813T215606Z
UID:10000004-1757700000-1757710800@therepresentativeclub.org
SUMMARY:Baseball Night @Bricktown Comets!
DESCRIPTION:🎟️ Join The Rep for an epic night at the ballpark as the OKC Comets face off against the River Cats!\n\nYour $58 ticket includes:\n\n 	Drinks 🍻\n 	Food 🌭\n 	Fireworks after the game 🎆\n(Kids 2 and under get in free!)\n\nLet’s fill the stands and make some memories with the Rep family.\n\n📍 Chickasaw Bricktown Ballpark\n2 S Mickey Mantle Dr\, OKC 73104\n🕕 Gates open at 6 PM
URL:https://therepresentativeclub.org/event/baseball-night-bricktown-comets/
LOCATION:Bricktown Ballpark\, 2 S Mickey Mantle Drive\, Oklahoma City\, OK\, 73104\, United States
CATEGORIES:Fellowship
ATTACH;FMTTYPE=image/jpeg:https://therepresentativeclub.org/wp-content/uploads/2025/07/782354db-7834-4dcc-9bcb-ab014cc773d1.jpg
END:VEVENT
END:VCALENDAR