BEGIN:VCALENDAR
VERSION:2.0
PRODID:-//The Representative - ECPv6.15.18//NONSGML v1.0//EN
CALSCALE:GREGORIAN
METHOD:PUBLISH
X-WR-CALNAME:The Representative
X-ORIGINAL-URL:https://therepresentativeclub.org
X-WR-CALDESC:Events for The Representative
REFRESH-INTERVAL;VALUE=DURATION:PT1H
X-Robots-Tag:noindex
X-PUBLISHED-TTL:PT1H
BEGIN:VTIMEZONE
TZID:America/Chicago
BEGIN:DAYLIGHT
TZOFFSETFROM:-0600
TZOFFSETTO:-0500
TZNAME:CDT
DTSTART:20240310T080000
END:DAYLIGHT
BEGIN:STANDARD
TZOFFSETFROM:-0500
TZOFFSETTO:-0600
TZNAME:CST
DTSTART:20241103T070000
END:STANDARD
BEGIN:DAYLIGHT
TZOFFSETFROM:-0600
TZOFFSETTO:-0500
TZNAME:CDT
DTSTART:20250309T080000
END:DAYLIGHT
BEGIN:STANDARD
TZOFFSETFROM:-0500
TZOFFSETTO:-0600
TZNAME:CST
DTSTART:20251102T070000
END:STANDARD
BEGIN:DAYLIGHT
TZOFFSETFROM:-0600
TZOFFSETTO:-0500
TZNAME:CDT
DTSTART:20260308T080000
END:DAYLIGHT
BEGIN:STANDARD
TZOFFSETFROM:-0500
TZOFFSETTO:-0600
TZNAME:CST
DTSTART:20261101T070000
END:STANDARD
BEGIN:DAYLIGHT
TZOFFSETFROM:-0600
TZOFFSETTO:-0500
TZNAME:CDT
DTSTART:20270314T080000
END:DAYLIGHT
BEGIN:STANDARD
TZOFFSETFROM:-0500
TZOFFSETTO:-0600
TZNAME:CST
DTSTART:20271107T070000
END:STANDARD
END:VTIMEZONE
BEGIN:VEVENT
DTSTART;TZID=America/Chicago:20260101T190000
DTEND;TZID=America/Chicago:20260101T210000
DTSTAMP:20260423T035043
CREATED:20251110T140009Z
LAST-MODIFIED:20251110T140009Z
UID:10000281-1767294000-1767301200@therepresentativeclub.org
SUMMARY:🏈 7 PM | College Football Potluck Event – Watch\, Eat & Celebrate Together!
DESCRIPTION:Kick off the new year with great food\, good friends\, and a night of football! Join us at The Rep to watch the Sugar Bowl\, enjoy a potluck dinner\, and celebrate community and camaraderie. Bring your favorite dish to share and settle in for a night of laughs\, rivalry\, and fellowship. \n\n🍲 Family-style potluck dinner\n🏈 Sugar Bowl game watch\n👨‍👩‍👧‍👦 Family-friendly environment\n🎉 Great fellowship and friendly rivalry\n\n📍 The Rep – 9625 N Robinson Ave Ste 100\, OKC 73114\n📅 Thursday\, January 1\, 2026\n🕖 Starts at 7:00 PM \nLet’s eat\, cheer\, and celebrate the new year together—bring a dish and a friend!
URL:https://therepresentativeclub.org/event/%f0%9f%8f%88-7-pm-college-football-potluck-event-watch-eat-celebrate-together/
LOCATION:The Representative\, 9625 N Robinson Ave\, Oklahoma City\, Oklahoma\, 73114\, United States
CATEGORIES:Fellowship
END:VEVENT
BEGIN:VEVENT
DTSTART;TZID=America/Chicago:20251204T190000
DTEND;TZID=America/Chicago:20251204T210000
DTSTAMP:20260423T035043
CREATED:20251110T135607Z
LAST-MODIFIED:20251110T135607Z
UID:10000280-1764874800-1764882000@therepresentativeclub.org
SUMMARY:🪓 7 PM | Axe Throwing Event – Food\, Fellowship & Friendly Competition
DESCRIPTION:Join us at The Rep for an evening filled with friendly competition\, laughter\, and brotherhood. Test your aim\, enjoy great food\, and connect with other men in a fun\, relaxed atmosphere. Whether you’re a first-time thrower or a seasoned pro\, everyone’s welcome! \n\n\n\n🪓 Axe throwing competition\n🍽️ Food provided\n\n\n\n\n👬 Bring a friend and enjoy fellowship\n🏆 Fun prizes and great camaraderie\n\n📍 9625 N Robinson Ave Ste 100\, OKC 73114\n📅 Thursday\, December 4\, 2025\n🕖 Starts at 7:00 PM \nDoors open at 7 PM — come early\, grab some food\, and get ready to hit the target!
URL:https://therepresentativeclub.org/event/%f0%9f%aa%93-7-pm-axe-throwing-event-food-fellowship-friendly-competition/
LOCATION:The Representative\, 9625 N Robinson Ave\, Oklahoma City\, Oklahoma\, 73114\, United States
CATEGORIES:Fellowship
END:VEVENT
BEGIN:VEVENT
DTSTART;TZID=America/Chicago:20251106T180000
DTEND;TZID=America/Chicago:20251106T230000
DTSTAMP:20260423T035043
CREATED:20250805T162920Z
LAST-MODIFIED:20251031T202756Z
UID:10000266-1762452000-1762470000@therepresentativeclub.org
SUMMARY:♠️ 6 PM | Poker Charity Tournament – Support The Rep
DESCRIPTION:♠️ 6 PM | Poker Charity Tournament – Support The Rep\nReady to go all-in for a good cause? Join us for our highly anticipated Poker Charity Tournament at The Rep. Enjoy an exciting evening of Texas Hold’em\, great food\, and fellowship—all while raising funds to support our mission. \n\n$75 donation entry gets you 10\,000 chips\n45 seats available – reserve early!\nPrizes\, giveaways\, and high-energy raffle drawings\nFood\, drinks\, and a competitive but welcoming environment\n\n📍 9625 N Robinson Ave Ste 100\, OKC 73114\n📅 Thursday\, November 6th\n🕖 Registration opens at 6:00 PM | Tournament starts at 7:00 PM \nBring your game face and your generosity—let’s make this night one to remember while giving back to a great cause. \n👇 Browse ticket and sponsorship options below to reserve your spot and support a great cause! RSVP to let us know you can make it. First come\, First served. $75 donation to play!
URL:https://therepresentativeclub.org/event/%e2%99%a0%ef%b8%8f-6-pm-poker-charity-tournament-support-the-rep/
LOCATION:The Representative\, 9625 N Robinson Ave\, Oklahoma City\, Oklahoma\, 73114\, United States
CATEGORIES:Fundraiser
END:VEVENT
END:VCALENDAR