BEGIN:VCALENDAR
VERSION:2.0
PRODID:-//The Representative - ECPv6.15.18//NONSGML v1.0//EN
CALSCALE:GREGORIAN
METHOD:PUBLISH
X-WR-CALNAME:The Representative
X-ORIGINAL-URL:https://therepresentativeclub.org
X-WR-CALDESC:Events for The Representative
REFRESH-INTERVAL;VALUE=DURATION:PT1H
X-Robots-Tag:noindex
X-PUBLISHED-TTL:PT1H
BEGIN:VTIMEZONE
TZID:America/Chicago
BEGIN:DAYLIGHT
TZOFFSETFROM:-0600
TZOFFSETTO:-0500
TZNAME:CDT
DTSTART:20240310T080000
END:DAYLIGHT
BEGIN:STANDARD
TZOFFSETFROM:-0500
TZOFFSETTO:-0600
TZNAME:CST
DTSTART:20241103T070000
END:STANDARD
BEGIN:DAYLIGHT
TZOFFSETFROM:-0600
TZOFFSETTO:-0500
TZNAME:CDT
DTSTART:20250309T080000
END:DAYLIGHT
BEGIN:STANDARD
TZOFFSETFROM:-0500
TZOFFSETTO:-0600
TZNAME:CST
DTSTART:20251102T070000
END:STANDARD
BEGIN:DAYLIGHT
TZOFFSETFROM:-0600
TZOFFSETTO:-0500
TZNAME:CDT
DTSTART:20260308T080000
END:DAYLIGHT
BEGIN:STANDARD
TZOFFSETFROM:-0500
TZOFFSETTO:-0600
TZNAME:CST
DTSTART:20261101T070000
END:STANDARD
END:VTIMEZONE
BEGIN:VEVENT
DTSTART;TZID=America/Chicago:20251016T190000
DTEND;TZID=America/Chicago:20251016T210000
DTSTAMP:20260423T035009
CREATED:20250923T214803Z
LAST-MODIFIED:20250923T215639Z
UID:10000272-1760641200-1760648400@therepresentativeclub.org
SUMMARY:Couples Speaker Event with Ashley Hurley
DESCRIPTION:💜 7 PM | Couples Speaker Event with Ashley Hurley\n \nLonging for a deeper connection? Join us for an evening designed to strengthen relationships through vulnerability\, authentic connection\, and practical guidance. Learn the four key relational needs and how to listen in ways that deepen intimacy\, build trust\, and create lasting love—without overcomplicating what it means to truly show up for each other. \n\nExplore vulnerability & authentic connection\nDiscover four key relational needs\nLearn to deepen intimacy and build lasting trust\nPractical tools to create stronger relationships\n\n📍 9625 N Robinson Ave Ste 100\, OKC 73114\n📅 Thursday\, October 16\, 2025\n🕖 Starts at 7:00 PM \nSpeaker: Ashley Hurley \nCome discover how to build love that lasts—together.
URL:https://therepresentativeclub.org/event/747/
LOCATION:The Representative\, 9625 N Robinson Ave\, Oklahoma City\, Oklahoma\, 73114\, United States
CATEGORIES:Speaker Event
END:VEVENT
END:VCALENDAR