BEGIN:VCALENDAR
VERSION:2.0
PRODID:-//The Representative - ECPv6.15.18//NONSGML v1.0//EN
CALSCALE:GREGORIAN
METHOD:PUBLISH
X-ORIGINAL-URL:https://therepresentativeclub.org
X-WR-CALDESC:Events for The Representative
REFRESH-INTERVAL;VALUE=DURATION:PT1H
X-Robots-Tag:noindex
X-PUBLISHED-TTL:PT1H
BEGIN:VTIMEZONE
TZID:America/Chicago
BEGIN:DAYLIGHT
TZOFFSETFROM:-0600
TZOFFSETTO:-0500
TZNAME:CDT
DTSTART:20240310T080000
END:DAYLIGHT
BEGIN:STANDARD
TZOFFSETFROM:-0500
TZOFFSETTO:-0600
TZNAME:CST
DTSTART:20241103T070000
END:STANDARD
BEGIN:DAYLIGHT
TZOFFSETFROM:-0600
TZOFFSETTO:-0500
TZNAME:CDT
DTSTART:20250309T080000
END:DAYLIGHT
BEGIN:STANDARD
TZOFFSETFROM:-0500
TZOFFSETTO:-0600
TZNAME:CST
DTSTART:20251102T070000
END:STANDARD
BEGIN:DAYLIGHT
TZOFFSETFROM:-0600
TZOFFSETTO:-0500
TZNAME:CDT
DTSTART:20260308T080000
END:DAYLIGHT
BEGIN:STANDARD
TZOFFSETFROM:-0500
TZOFFSETTO:-0600
TZNAME:CST
DTSTART:20261101T070000
END:STANDARD
END:VTIMEZONE
BEGIN:VEVENT
DTSTART;TZID=America/Chicago:20250821T190000
DTEND;TZID=America/Chicago:20250821T203000
DTSTAMP:20260423T065612
CREATED:20250731T205410Z
LAST-MODIFIED:20250821T142312Z
UID:10000002-1755802800-1755808200@therepresentativeclub.org
SUMMARY:Dr. Rosette Elghossain – Emotional Intelligence & Resilience | Thursday\, August 21st @ 7 P.M.
DESCRIPTION:🕖 7 PM | Speaker Event: Dr. Rosette Elghossain – Emotional Intelligence & Resilience \n\nJoin us for a powerful evening with Dr. Rosette Elghossain\, a licensed clinical psychologist and expert in mental wellness and trauma recovery. She brings years of experience from working with Fortune 100 companies and local teams alike. \n\nHer talk will focus on how self-awareness and emotional intelligence can transform our relationships\, leadership\, and ability to navigate life’s challenges. \n\nWhat to expect: \n\n\n  Proven strategies for mental wellness and leadership\n  A secular approach to resilience\n  Connection with a supportive community of men\n  A welcoming space with food and fellowship\n\n\n📍 9625 N Robinson Ave\, Ste 100\, OKC\n📅 Thursday\, August 21st\n🕖 Starts at 7:00 PM \n\nLet’s grow stronger together—see you there!
URL:https://therepresentativeclub.org/event/dr-rosette-elghossain-emotional-intelligence-resilience-thursday-august-21st-7-p-m/
LOCATION:The Representative\, 9625 N Robinson Ave\, Oklahoma City\, Oklahoma\, 73114\, United States
CATEGORIES:Speaker Event
END:VEVENT
END:VCALENDAR