BEGIN:VCALENDAR
VERSION:2.0
PRODID:-//The Representative - ECPv6.15.18//NONSGML v1.0//EN
CALSCALE:GREGORIAN
METHOD:PUBLISH
X-WR-CALNAME:The Representative
X-ORIGINAL-URL:https://therepresentativeclub.org
X-WR-CALDESC:Events for The Representative
REFRESH-INTERVAL;VALUE=DURATION:PT1H
X-Robots-Tag:noindex
X-PUBLISHED-TTL:PT1H
BEGIN:VTIMEZONE
TZID:America/Chicago
BEGIN:DAYLIGHT
TZOFFSETFROM:-0600
TZOFFSETTO:-0500
TZNAME:CDT
DTSTART:20250309T080000
END:DAYLIGHT
BEGIN:STANDARD
TZOFFSETFROM:-0500
TZOFFSETTO:-0600
TZNAME:CST
DTSTART:20251102T070000
END:STANDARD
BEGIN:DAYLIGHT
TZOFFSETFROM:-0600
TZOFFSETTO:-0500
TZNAME:CDT
DTSTART:20260308T080000
END:DAYLIGHT
BEGIN:STANDARD
TZOFFSETFROM:-0500
TZOFFSETTO:-0600
TZNAME:CST
DTSTART:20261101T070000
END:STANDARD
BEGIN:DAYLIGHT
TZOFFSETFROM:-0600
TZOFFSETTO:-0500
TZNAME:CDT
DTSTART:20270314T080000
END:DAYLIGHT
BEGIN:STANDARD
TZOFFSETFROM:-0500
TZOFFSETTO:-0600
TZNAME:CST
DTSTART:20271107T070000
END:STANDARD
END:VTIMEZONE
BEGIN:VEVENT
DTSTART;TZID=America/Chicago:20260208T170000
DTEND;TZID=America/Chicago:20260208T213000
DTSTAMP:20260423T152839
CREATED:20260128T134302Z
LAST-MODIFIED:20260128T134302Z
UID:10000361-1770570000-1770586200@therepresentativeclub.org
SUMMARY:🏈 5:00 PM | Super Bowl Party – Family Event
DESCRIPTION:Join us for an unforgettable Super Bowl Party at The Rep! \nThis is a whole-family event filled with food\, fellowship\, and fun as we gather to watch the big game together. Whether you’re a die-hard football fan or just here for the community\, this night is for everyone. \nThis event is a potluck — please bring one or two of your favorite dishes to share. Let’s kick off the evening with great food\, friendly competition\, and laughter. \n\n🏈 Big game on the big screen\n🍽 Potluck-style dinner\n👨‍👩‍👧 Family-friendly atmosphere\n🤝 Fellowship & community\n\n📅 Sunday\, February 8\n🕔 5:00 PM\n📍 9625 N Robinson Ave Ste 100\, OKC 73114 \nBring the family\, bring a dish\, and come ready to celebrate together!
URL:https://therepresentativeclub.org/event/%f0%9f%8f%88-500-pm-super-bowl-party-family-event/
LOCATION:The Representative\, 9625 N Robinson Ave\, Oklahoma City\, Oklahoma\, 73114\, United States
CATEGORIES:Fellowship
END:VEVENT
BEGIN:VEVENT
DTSTART;TZID=America/Chicago:20260305T190000
DTEND;TZID=America/Chicago:20260305T210000
DTSTAMP:20260423T152839
CREATED:20260120T000142Z
LAST-MODIFIED:20260302T180250Z
UID:10000297-1772737200-1772744400@therepresentativeclub.org
SUMMARY:7 PM | Cornhole Tournament
DESCRIPTION:🎯 7 PM | Cornhole Tournament – Friendly Competition & Fellowship\nJoin us for a fun and competitive Cornhole Tournament hosted by The Rep! Whether you’re a seasoned player or just looking to have a great time\, this night is all about community\, laughter\, and friendly competition. \n\n🎯 Competitive and casual cornhole games\n👥 Open to all skill levels\n😂 Plenty of laughs and great company\n🍽️ Come hungry! BYOD (Bring Your Own Drinks)\n\n📍 9625 N Robinson Ave Ste 100\, OKC 73114\n📅 Thursday\, March 5\, 2026\n🕖 Starts at 7:00 PM \nBring a friend\, bring your appetite\, and come ready for a great night together.
URL:https://therepresentativeclub.org/event/7-pm-cornhole-tournament/
LOCATION:The Representative\, 9625 N Robinson Ave\, Oklahoma City\, Oklahoma\, 73114\, United States
CATEGORIES:Fellowship
END:VEVENT
BEGIN:VEVENT
DTSTART;TZID=America/Chicago:20260328T190000
DTEND;TZID=America/Chicago:20260328T230000
DTSTAMP:20260423T152839
CREATED:20260311T203352Z
LAST-MODIFIED:20260311T203437Z
UID:10000367-1774724400-1774738800@therepresentativeclub.org
SUMMARY:🎩 7 PM | Adult Prom Night Gala – Register Now
DESCRIPTION:🎩 7 PM | Adult Prom Night Gala – Register Now\nJoin us for one of the most anticipated events of the year — The Rep’s Adult Prom Night Gala. This unforgettable evening brings our community together for great food\, live music\, raffles\, and celebration while supporting the mission of The Representative. \nLast year’s gala was an incredible night filled with laughter\, connection\, and generosity. Guests enjoyed dinner\, drinks\, dancing\, exciting raffle prizes\, and a packed room of supporters who believe in developing strong men and leaders in our community. \n\n🎶 Live music and dancing\n🍽️ Dinner\, drinks\, and fellowship\n🎟️ Raffles and exciting prizes\n👗 Dress up and enjoy a classic prom-style evening\n\n📅 Saturday\, March 28\, 2026\n🕡 Starts at 7 PM \nReserve your spot now:\n\nRegister for Adult Prom Night Gala\n \nThe Rep exists to develop men rooted in faith\, freedom\, fellowship\, and service. Come celebrate with us and help support the work happening in our community.
URL:https://therepresentativeclub.org/event/%f0%9f%8e%a9-7-pm-adult-prom-night-gala-register-now/
LOCATION:The Capitol View\, 5201 N. Lincoln Blvd\, Oklahoma City\, OK\, 73105\, United States
CATEGORIES:Fellowship
END:VEVENT
BEGIN:VEVENT
DTSTART;TZID=America/Chicago:20260502T120000
DTEND;TZID=America/Chicago:20260503T120000
DTSTAMP:20260423T152839
CREATED:20260305T213559Z
LAST-MODIFIED:20260305T213559Z
UID:10000364-1777723200-1777809600@therepresentativeclub.org
SUMMARY:🏕️ 12 PM | Dads & Kids Camping Trip – Bonfire\, Fishing & Outdoor Fun
DESCRIPTION:Join us for a great day outdoors at our Dads & Kids Camping Trip hosted by The Representative. This event is all about fathers spending intentional time with their kids\, building memories\, and enjoying the outdoors together. \nWe’ll have a full afternoon and evening of activities including a bonfire\, fishing\, and time at the gun range. Whether you stay for a few hours or make it a full outing\, this is a great opportunity to connect with your kids and other families in the community. \n\n🔥 Bonfire and fellowship\n🎣 Fishing\n🎯 Time at the gun range\n👨‍👧 Quality time for dads and kids\n\n📍 335395 E 770 Rd\, Tryon\, OK 74875\n📅 Saturday\, May 2\n🕛 Starts at 12:00 PM \nThe Rep exists to develop men and families rooted in faith\, freedom\, fellowship\, and service. Bring your kids and come enjoy a great day together. \nFor more information\, contact Adam at 405-531-8629.
URL:https://therepresentativeclub.org/event/%f0%9f%8f%95%ef%b8%8f-12-pm-dads-kids-camping-trip-bonfire-fishing-outdoor-fun/
LOCATION:David’s Farm\, 335395 E 770 Rd\, Tryon\, OK\, 74875\, United States
CATEGORIES:Fellowship
END:VEVENT
BEGIN:VEVENT
DTSTART;TZID=America/Chicago:20260507T190000
DTEND;TZID=America/Chicago:20260507T210000
DTSTAMP:20260423T152839
CREATED:20260305T213907Z
LAST-MODIFIED:20260423T192853Z
UID:10000366-1778180400-1778187600@therepresentativeclub.org
SUMMARY:🎤 7–9 PM | Group Karaoke Night
DESCRIPTION:🤝 7:00 PM | Connection Night @ The Rep\nJoin us for Connection Night at The Representative — an evening to pause\, connect\, and sharpen one another. \nThis is a laid-back\, welcoming environment where men can build real relationships\, grow together\, and be encouraged. Whether you’ve been around The Rep for years or it’s your first time\, there’s a place for you here. \n\n🤝 Genuine connection and brotherhood\n💬 Meaningful conversations\n🔥 Growth\, encouragement\, and community\n🍽️ Food and fellowship\n\n📅 May 7\n🕖 7:00 PM\n📍 9625 N Robinson Ave Ste 100\, OKC 73114 \nEveryone is welcome — come as you are. \nThe Rep exists to develop men rooted in faith\, freedom\, fellowship\, and service. Come get connected. \n📞 405-531-8629\n🌐 www.therepclub.men\n📧 adam@repclub.men
URL:https://therepresentativeclub.org/event/%f0%9f%8e%a4-7-9-pm-group-karaoke-night/
LOCATION:The Representative\, 9625 N Robinson Ave\, Oklahoma City\, Oklahoma\, 73114\, United States
CATEGORIES:Fellowship
END:VEVENT
END:VCALENDAR