BEGIN:VCALENDAR
VERSION:2.0
PRODID:-//The Representative - ECPv6.15.18//NONSGML v1.0//EN
CALSCALE:GREGORIAN
METHOD:PUBLISH
X-ORIGINAL-URL:https://therepresentativeclub.org
X-WR-CALDESC:Events for The Representative
REFRESH-INTERVAL;VALUE=DURATION:PT1H
X-Robots-Tag:noindex
X-PUBLISHED-TTL:PT1H
BEGIN:VTIMEZONE
TZID:America/Chicago
BEGIN:DAYLIGHT
TZOFFSETFROM:-0600
TZOFFSETTO:-0500
TZNAME:CDT
DTSTART:20240310T080000
END:DAYLIGHT
BEGIN:STANDARD
TZOFFSETFROM:-0500
TZOFFSETTO:-0600
TZNAME:CST
DTSTART:20241103T070000
END:STANDARD
BEGIN:DAYLIGHT
TZOFFSETFROM:-0600
TZOFFSETTO:-0500
TZNAME:CDT
DTSTART:20250309T080000
END:DAYLIGHT
BEGIN:STANDARD
TZOFFSETFROM:-0500
TZOFFSETTO:-0600
TZNAME:CST
DTSTART:20251102T070000
END:STANDARD
BEGIN:DAYLIGHT
TZOFFSETFROM:-0600
TZOFFSETTO:-0500
TZNAME:CDT
DTSTART:20260308T080000
END:DAYLIGHT
BEGIN:STANDARD
TZOFFSETFROM:-0500
TZOFFSETTO:-0600
TZNAME:CST
DTSTART:20261101T070000
END:STANDARD
END:VTIMEZONE
BEGIN:VEVENT
DTSTART;TZID=America/Chicago:20251204T190000
DTEND;TZID=America/Chicago:20251204T210000
DTSTAMP:20260423T052001
CREATED:20251110T135607Z
LAST-MODIFIED:20251110T135607Z
UID:10000280-1764874800-1764882000@therepresentativeclub.org
SUMMARY:🪓 7 PM | Axe Throwing Event – Food\, Fellowship & Friendly Competition
DESCRIPTION:Join us at The Rep for an evening filled with friendly competition\, laughter\, and brotherhood. Test your aim\, enjoy great food\, and connect with other men in a fun\, relaxed atmosphere. Whether you’re a first-time thrower or a seasoned pro\, everyone’s welcome! \n\n\n\n🪓 Axe throwing competition\n🍽️ Food provided\n\n\n\n\n👬 Bring a friend and enjoy fellowship\n🏆 Fun prizes and great camaraderie\n\n📍 9625 N Robinson Ave Ste 100\, OKC 73114\n📅 Thursday\, December 4\, 2025\n🕖 Starts at 7:00 PM \nDoors open at 7 PM — come early\, grab some food\, and get ready to hit the target!
URL:https://therepresentativeclub.org/event/%f0%9f%aa%93-7-pm-axe-throwing-event-food-fellowship-friendly-competition/
LOCATION:The Representative\, 9625 N Robinson Ave\, Oklahoma City\, Oklahoma\, 73114\, United States
CATEGORIES:Fellowship
END:VEVENT
BEGIN:VEVENT
DTSTART;TZID=America/Chicago:20251206T113000
DTEND;TZID=America/Chicago:20251206T170000
DTSTAMP:20260423T052001
CREATED:20251201T183657Z
LAST-MODIFIED:20251201T183657Z
UID:10000289-1765020600-1765040400@therepresentativeclub.org
SUMMARY:11:30 AM – 5 PM | Dads & Kids Build Day – Derby Cars\, Food & Family Fun
DESCRIPTION:  \nBring the kids and join us for a full-day\, hands-on family experience at The Rep! Dads and kids will work side-by-side to build and paint derby cars\, enjoy great food on the grill\, and jump into fun activities throughout the day. We’ll wrap up with a friendly race to see whose car takes the crown! \n\n🛠️ Build & paint derby cars together\n🍔 Food on the grill included\n🎨 Creative activities for all ages\n🏁 End-of-day derby race\n👨‍👧 All kids welcome — all skill levels ready\n\n📍 9625 N Robinson Ave Ste 100\, OKC 73114\n📅 Saturday\, December 6\, 2025\n🕦 11:30 AM – 5:00 PM \nLet’s build\, laugh\, race\, and make unforgettable memories—food and derby kits provided!
URL:https://therepresentativeclub.org/event/1130-am-5-pm-dads-kids-build-day-derby-cars-food-family-fun/
LOCATION:The Representative\, 9625 N Robinson Ave\, Oklahoma City\, Oklahoma\, 73114\, United States
CATEGORIES:Fellowship
END:VEVENT
BEGIN:VEVENT
DTSTART;TZID=America/Chicago:20251220T183000
DTEND;TZID=America/Chicago:20251220T220000
DTSTAMP:20260423T052001
CREATED:20251020T152816Z
LAST-MODIFIED:20251203T143532Z
UID:10000276-1766255400-1766268000@therepresentativeclub.org
SUMMARY:🎄 6:30 PM | Family Christmas Party – Celebrate the Season Together!
DESCRIPTION:Join us for The Representative’s annual Family Christmas Party—a night filled with joy\, laughter\, and holiday cheer. Bring your whole family and celebrate the season with great food\, music\, and festive surprises! \n\n\n\n🎅 Dinner\, bar\, and DJ\n🎁 Gifts for kids\n🎄 Meet Mr. & Mrs. Claus\n🎟️ Raffles and fun for the whole family\n\n\n\n🎁 Gift Raffle – A Fun Way to Give Back\nWe’re adding a special Gift Raffle to this year’s Christmas Party! Here’s how it works: \n\n\n\n\n\nBring a wrapped gift valued at $25 or more.\nRaffle bids start at $5 for each item.\nSome gifts will be worth significantly more — feel free to be generous if you feel led!\nAll gifts are donations\, and all raffle proceeds go directly to support The Rep.\n\n\n\n\n\nThis is a fun\, generous way to bless others\, raise support\, and keep the Christmas spirit alive. Thank you for making this night special! \n📍 The Lume Event Space – 619 West Main St\, OKC 73102\n📅 Saturday\, December 20\, 2025\n🕡 Starts at 6:30 PM \n$25 per adult (13+). Children 12 & under are free. \nCome make unforgettable Christmas memories with The Rep family!
URL:https://therepresentativeclub.org/event/christmas-party/
LOCATION:The Lume\, 619 West Main St\, OKC\, Oklahoma\, 73102\, United States
CATEGORIES:Fellowship
END:VEVENT
END:VCALENDAR