BEGIN:VCALENDAR
VERSION:2.0
PRODID:-//The Representative - ECPv6.15.18//NONSGML v1.0//EN
CALSCALE:GREGORIAN
METHOD:PUBLISH
X-WR-CALNAME:The Representative
X-ORIGINAL-URL:https://therepresentativeclub.org
X-WR-CALDESC:Events for The Representative
REFRESH-INTERVAL;VALUE=DURATION:PT1H
X-Robots-Tag:noindex
X-PUBLISHED-TTL:PT1H
BEGIN:VTIMEZONE
TZID:America/Chicago
BEGIN:DAYLIGHT
TZOFFSETFROM:-0600
TZOFFSETTO:-0500
TZNAME:CDT
DTSTART:20240310T080000
END:DAYLIGHT
BEGIN:STANDARD
TZOFFSETFROM:-0500
TZOFFSETTO:-0600
TZNAME:CST
DTSTART:20241103T070000
END:STANDARD
BEGIN:DAYLIGHT
TZOFFSETFROM:-0600
TZOFFSETTO:-0500
TZNAME:CDT
DTSTART:20250309T080000
END:DAYLIGHT
BEGIN:STANDARD
TZOFFSETFROM:-0500
TZOFFSETTO:-0600
TZNAME:CST
DTSTART:20251102T070000
END:STANDARD
BEGIN:DAYLIGHT
TZOFFSETFROM:-0600
TZOFFSETTO:-0500
TZNAME:CDT
DTSTART:20260308T080000
END:DAYLIGHT
BEGIN:STANDARD
TZOFFSETFROM:-0500
TZOFFSETTO:-0600
TZNAME:CST
DTSTART:20261101T070000
END:STANDARD
END:VTIMEZONE
BEGIN:VEVENT
DTSTART;TZID=America/Chicago:20251002T190000
DTEND;TZID=America/Chicago:20251002T210000
DTSTAMP:20260423T083421
CREATED:20250805T163950Z
LAST-MODIFIED:20250805T164020Z
UID:10000267-1759431600-1759438800@therepresentativeclub.org
SUMMARY:🔥 7 PM | Barbecue Cook-Off – Bring the Heat\, Win the Prize!
DESCRIPTION:🔥 7 PM | Barbecue Cook-Off – Bring the Heat\, Win the Prize!\nIt’s time to fire up the grill! Come out for our Barbecue Cook-Off\, where food meets fellowship and flavor brings the competition. Whether you’re cooking or just tasting\, this is a night for community\, good music\, and great eats. \n\nBring your best and compete for bragging rights and prizes\nEnjoy delicious food\, live music\, and cold drinks\nGreat company and a welcoming atmosphere for all\n\n📍 9625 N Robinson Ave Ste 100\, OKC 73114\n📅 Thursday\, October 2nd\n🕖 Starts at 7:00 PM \nLet’s gather around the grill\, build connection\, and crown a new BBQ champ. Bring a friend!
URL:https://therepresentativeclub.org/event/602/
LOCATION:The Representative\, 9625 N Robinson Ave\, Oklahoma City\, Oklahoma\, 73114\, United States
CATEGORIES:Fellowship
END:VEVENT
BEGIN:VEVENT
DTSTART;TZID=America/Chicago:20251018T170000
DTEND;TZID=America/Chicago:20251018T210000
DTSTAMP:20260423T083421
CREATED:20251007T002809Z
LAST-MODIFIED:20251007T002809Z
UID:10000274-1760806800-1760821200@therepresentativeclub.org
SUMMARY:Heard on Hurd
DESCRIPTION:This event will entail showing up in force to heard on hurd in Rep shirts and hats and having conversations and inviting people. If we can’t get a booth we will wander the event with printed materials
URL:https://therepresentativeclub.org/event/heard-on-hurd/
LOCATION:OK
CATEGORIES:Fellowship
END:VEVENT
BEGIN:VEVENT
DTSTART;VALUE=DATE:20251025
DTEND;VALUE=DATE:20251026
DTSTAMP:20260423T083421
CREATED:20250923T215346Z
LAST-MODIFIED:20250923T215445Z
UID:10000273-1761350400-1761436799@therepresentativeclub.org
SUMMARY:Dads and Kids Camping @ The Peach Farm
DESCRIPTION:🎃 12 PM | Dad’s & Kids Camping Trip – Zombie Paintball Shoot\nGet ready for the best camping trip ever! Join us for a fall adventure full of food\, fun\, and family time. This year’s highlight? A thrilling Zombie Paintball Shoot that dads and kids will never forget. \n\nAll food included\nZombie paintball shoot adventure\nBring your tent\, drinks\, and fishing gear\nA weekend of bonding and memories for dads & kids\n\n📍 19400 NE 63rd St\, Harrah\, OK 73045\n📅 Saturday\, October 25\, 2025\n🕛 Starts at 12:00 PM \nPack your gear\, bring your courage\, and join us for a spooky and unforgettable camping experience!
URL:https://therepresentativeclub.org/event/754/
LOCATION:The Peach Farm\, 19400 NE 63rd St\, Harrah\, 73045
CATEGORIES:Fellowship
END:VEVENT
END:VCALENDAR