BEGIN:VCALENDAR
VERSION:2.0
PRODID:-//The Representative - ECPv6.15.18//NONSGML v1.0//EN
CALSCALE:GREGORIAN
METHOD:PUBLISH
X-WR-CALNAME:The Representative
X-ORIGINAL-URL:https://therepresentativeclub.org
X-WR-CALDESC:Events for The Representative
REFRESH-INTERVAL;VALUE=DURATION:PT1H
X-Robots-Tag:noindex
X-PUBLISHED-TTL:PT1H
BEGIN:VTIMEZONE
TZID:America/Chicago
BEGIN:DAYLIGHT
TZOFFSETFROM:-0600
TZOFFSETTO:-0500
TZNAME:CDT
DTSTART:20240310T080000
END:DAYLIGHT
BEGIN:STANDARD
TZOFFSETFROM:-0500
TZOFFSETTO:-0600
TZNAME:CST
DTSTART:20241103T070000
END:STANDARD
BEGIN:DAYLIGHT
TZOFFSETFROM:-0600
TZOFFSETTO:-0500
TZNAME:CDT
DTSTART:20250309T080000
END:DAYLIGHT
BEGIN:STANDARD
TZOFFSETFROM:-0500
TZOFFSETTO:-0600
TZNAME:CST
DTSTART:20251102T070000
END:STANDARD
BEGIN:DAYLIGHT
TZOFFSETFROM:-0600
TZOFFSETTO:-0500
TZNAME:CDT
DTSTART:20260308T080000
END:DAYLIGHT
BEGIN:STANDARD
TZOFFSETFROM:-0500
TZOFFSETTO:-0600
TZNAME:CST
DTSTART:20261101T070000
END:STANDARD
END:VTIMEZONE
BEGIN:VEVENT
DTSTART;TZID=America/Chicago:20250807T190000
DTEND;TZID=America/Chicago:20250807T210000
DTSTAMP:20260423T115025
CREATED:20250731T191818Z
LAST-MODIFIED:20250805T233710Z
UID:10000001-1754593200-1754600400@therepresentativeclub.org
SUMMARY:August 7 @ 7 PM – Rep Your Business: Networking Night
DESCRIPTION:Are you running a business\, a side hustle\, or providing a service? Then it’s your time to shine.\nJoin us at The Representative’s very first networking event—a chance to promote what you do and connect with others who are building and growing something great.\n\nWe’re giving you the mic\, the platform\, and the support to rep your business!\n\n📍 9625 N Robinson Ave Ste 100 OKC 73114\n🕖 7 PM – 9 PM
URL:https://therepresentativeclub.org/event/august-7-7-pm-rep-your-business-networking-night/
LOCATION:The Representative\, 9625 N Robinson Ave\, Oklahoma City\, Oklahoma\, 73114\, United States
CATEGORIES:Fellowship
END:VEVENT
END:VCALENDAR