BEGIN:VCALENDAR
VERSION:2.0
PRODID:-//The Representative - ECPv6.15.18//NONSGML v1.0//EN
CALSCALE:GREGORIAN
METHOD:PUBLISH
X-ORIGINAL-URL:https://therepresentativeclub.org
X-WR-CALDESC:Events for The Representative
REFRESH-INTERVAL;VALUE=DURATION:PT1H
X-Robots-Tag:noindex
X-PUBLISHED-TTL:PT1H
BEGIN:VTIMEZONE
TZID:America/Chicago
BEGIN:DAYLIGHT
TZOFFSETFROM:-0600
TZOFFSETTO:-0500
TZNAME:CDT
DTSTART:20270314T080000
END:DAYLIGHT
BEGIN:STANDARD
TZOFFSETFROM:-0500
TZOFFSETTO:-0600
TZNAME:CST
DTSTART:20271107T070000
END:STANDARD
BEGIN:DAYLIGHT
TZOFFSETFROM:-0600
TZOFFSETTO:-0500
TZNAME:CDT
DTSTART:20280312T080000
END:DAYLIGHT
BEGIN:STANDARD
TZOFFSETFROM:-0500
TZOFFSETTO:-0600
TZNAME:CST
DTSTART:20281105T070000
END:STANDARD
BEGIN:DAYLIGHT
TZOFFSETFROM:-0600
TZOFFSETTO:-0500
TZNAME:CDT
DTSTART:20290311T080000
END:DAYLIGHT
BEGIN:STANDARD
TZOFFSETFROM:-0500
TZOFFSETTO:-0600
TZNAME:CST
DTSTART:20291104T070000
END:STANDARD
END:VTIMEZONE
BEGIN:VEVENT
DTSTART;TZID=America/Chicago:20281103T070000
DTEND;TZID=America/Chicago:20281103T080000
DTSTAMP:20260424T230801
CREATED:20250731T212932Z
LAST-MODIFIED:20250731T212932Z
UID:10000175-1856847600-1856851200@therepresentativeclub.org
SUMMARY:Bible Study
DESCRIPTION:Friday Morning Bible Study – Men of The Representative \nStart your Friday grounded in truth and brotherhood. Join us every Friday morning from 7:00–8:00 AM at The Representative HQ for a time of Scripture\, insight\, and connection. \nDoors open at 6:45 AM—come early\, grab a coffee\, and catch up with the guys before we dive in. Each week we explore the Word together\, challenge each other to grow\, and leave encouraged to lead with strength\, humility\, and faith. \nWhether you’re new to Bible study or have been walking in the Word for years\, there’s a seat for you. \n📍 9625 N Robinson Ave\, Ste 100\, OKC\n🕖 Fridays | 6:45 AM arrival | 7:00–8:00 AM study \nNo pressure. No pretenses. Just real men seeking real truth.
URL:https://therepresentativeclub.org/event/bible-study/2028-11-03/
LOCATION:The Representative\, 9625 N Robinson Ave\, Oklahoma City\, Oklahoma\, 73114\, United States
CATEGORIES:Bible Study
END:VEVENT
BEGIN:VEVENT
DTSTART;TZID=America/Chicago:20281110T070000
DTEND;TZID=America/Chicago:20281110T080000
DTSTAMP:20260424T230801
CREATED:20250731T212932Z
LAST-MODIFIED:20250731T212932Z
UID:10000176-1857452400-1857456000@therepresentativeclub.org
SUMMARY:Bible Study
DESCRIPTION:Friday Morning Bible Study – Men of The Representative \nStart your Friday grounded in truth and brotherhood. Join us every Friday morning from 7:00–8:00 AM at The Representative HQ for a time of Scripture\, insight\, and connection. \nDoors open at 6:45 AM—come early\, grab a coffee\, and catch up with the guys before we dive in. Each week we explore the Word together\, challenge each other to grow\, and leave encouraged to lead with strength\, humility\, and faith. \nWhether you’re new to Bible study or have been walking in the Word for years\, there’s a seat for you. \n📍 9625 N Robinson Ave\, Ste 100\, OKC\n🕖 Fridays | 6:45 AM arrival | 7:00–8:00 AM study \nNo pressure. No pretenses. Just real men seeking real truth.
URL:https://therepresentativeclub.org/event/bible-study/2028-11-10/
LOCATION:The Representative\, 9625 N Robinson Ave\, Oklahoma City\, Oklahoma\, 73114\, United States
CATEGORIES:Bible Study
END:VEVENT
BEGIN:VEVENT
DTSTART;TZID=America/Chicago:20281117T070000
DTEND;TZID=America/Chicago:20281117T080000
DTSTAMP:20260424T230801
CREATED:20250731T212932Z
LAST-MODIFIED:20250731T212932Z
UID:10000177-1858057200-1858060800@therepresentativeclub.org
SUMMARY:Bible Study
DESCRIPTION:Friday Morning Bible Study – Men of The Representative \nStart your Friday grounded in truth and brotherhood. Join us every Friday morning from 7:00–8:00 AM at The Representative HQ for a time of Scripture\, insight\, and connection. \nDoors open at 6:45 AM—come early\, grab a coffee\, and catch up with the guys before we dive in. Each week we explore the Word together\, challenge each other to grow\, and leave encouraged to lead with strength\, humility\, and faith. \nWhether you’re new to Bible study or have been walking in the Word for years\, there’s a seat for you. \n📍 9625 N Robinson Ave\, Ste 100\, OKC\n🕖 Fridays | 6:45 AM arrival | 7:00–8:00 AM study \nNo pressure. No pretenses. Just real men seeking real truth.
URL:https://therepresentativeclub.org/event/bible-study/2028-11-17/
LOCATION:The Representative\, 9625 N Robinson Ave\, Oklahoma City\, Oklahoma\, 73114\, United States
CATEGORIES:Bible Study
END:VEVENT
BEGIN:VEVENT
DTSTART;TZID=America/Chicago:20281124T070000
DTEND;TZID=America/Chicago:20281124T080000
DTSTAMP:20260424T230801
CREATED:20250731T212932Z
LAST-MODIFIED:20250731T212932Z
UID:10000178-1858662000-1858665600@therepresentativeclub.org
SUMMARY:Bible Study
DESCRIPTION:Friday Morning Bible Study – Men of The Representative \nStart your Friday grounded in truth and brotherhood. Join us every Friday morning from 7:00–8:00 AM at The Representative HQ for a time of Scripture\, insight\, and connection. \nDoors open at 6:45 AM—come early\, grab a coffee\, and catch up with the guys before we dive in. Each week we explore the Word together\, challenge each other to grow\, and leave encouraged to lead with strength\, humility\, and faith. \nWhether you’re new to Bible study or have been walking in the Word for years\, there’s a seat for you. \n📍 9625 N Robinson Ave\, Ste 100\, OKC\n🕖 Fridays | 6:45 AM arrival | 7:00–8:00 AM study \nNo pressure. No pretenses. Just real men seeking real truth.
URL:https://therepresentativeclub.org/event/bible-study/2028-11-24/
LOCATION:The Representative\, 9625 N Robinson Ave\, Oklahoma City\, Oklahoma\, 73114\, United States
CATEGORIES:Bible Study
END:VEVENT
END:VCALENDAR